BEGIN:VCALENDAR
VERSION:2.0
PRODID:-//Our Lady of Victory Parish - ECPv6.15.20//NONSGML v1.0//EN
CALSCALE:GREGORIAN
METHOD:PUBLISH
X-ORIGINAL-URL:https://olvfpny.org
X-WR-CALDESC:Events for Our Lady of Victory Parish
REFRESH-INTERVAL;VALUE=DURATION:PT1H
X-Robots-Tag:noindex
X-PUBLISHED-TTL:PT1H
BEGIN:VTIMEZONE
TZID:America/New_York
BEGIN:DAYLIGHT
TZOFFSETFROM:-0500
TZOFFSETTO:-0400
TZNAME:EDT
DTSTART:20220313T070000
END:DAYLIGHT
BEGIN:STANDARD
TZOFFSETFROM:-0400
TZOFFSETTO:-0500
TZNAME:EST
DTSTART:20221106T060000
END:STANDARD
BEGIN:DAYLIGHT
TZOFFSETFROM:-0500
TZOFFSETTO:-0400
TZNAME:EDT
DTSTART:20230312T070000
END:DAYLIGHT
BEGIN:STANDARD
TZOFFSETFROM:-0400
TZOFFSETTO:-0500
TZNAME:EST
DTSTART:20231105T060000
END:STANDARD
BEGIN:DAYLIGHT
TZOFFSETFROM:-0500
TZOFFSETTO:-0400
TZNAME:EDT
DTSTART:20240310T070000
END:DAYLIGHT
BEGIN:STANDARD
TZOFFSETFROM:-0400
TZOFFSETTO:-0500
TZNAME:EST
DTSTART:20241103T060000
END:STANDARD
END:VTIMEZONE
BEGIN:VEVENT
DTSTART;TZID=America/New_York:20230503T130000
DTEND;TZID=America/New_York:20230503T143000
DTSTAMP:20260425T101824
CREATED:20230411T184507Z
LAST-MODIFIED:20230411T184507Z
UID:8035-1683118800-1683124200@olvfpny.org
SUMMARY:Bereavement Ministry for Adults
DESCRIPTION:
URL:https://olvfpny.org/event/bereavement-ministry-for-adults/2023-05-03/
LOCATION:Parish Center/Memorial Hall\, 201 Plainfield Ave\, Floral Park\, NY\, 11001\, United States
CATEGORIES:Church Events
END:VEVENT
END:VCALENDAR