BEGIN:VCALENDAR
VERSION:2.0
PRODID:-//Our Lady of Victory Parish - ECPv6.15.20//NONSGML v1.0//EN
CALSCALE:GREGORIAN
METHOD:PUBLISH
X-WR-CALNAME:Our Lady of Victory Parish
X-ORIGINAL-URL:https://olvfpny.org
X-WR-CALDESC:Events for Our Lady of Victory Parish
REFRESH-INTERVAL;VALUE=DURATION:PT1H
X-Robots-Tag:noindex
X-PUBLISHED-TTL:PT1H
BEGIN:VTIMEZONE
TZID:America/New_York
BEGIN:DAYLIGHT
TZOFFSETFROM:-0500
TZOFFSETTO:-0400
TZNAME:EDT
DTSTART:20210314T070000
END:DAYLIGHT
BEGIN:STANDARD
TZOFFSETFROM:-0400
TZOFFSETTO:-0500
TZNAME:EST
DTSTART:20211107T060000
END:STANDARD
BEGIN:DAYLIGHT
TZOFFSETFROM:-0500
TZOFFSETTO:-0400
TZNAME:EDT
DTSTART:20220313T070000
END:DAYLIGHT
BEGIN:STANDARD
TZOFFSETFROM:-0400
TZOFFSETTO:-0500
TZNAME:EST
DTSTART:20221106T060000
END:STANDARD
BEGIN:DAYLIGHT
TZOFFSETFROM:-0500
TZOFFSETTO:-0400
TZNAME:EDT
DTSTART:20230312T070000
END:DAYLIGHT
BEGIN:STANDARD
TZOFFSETFROM:-0400
TZOFFSETTO:-0500
TZNAME:EST
DTSTART:20231105T060000
END:STANDARD
END:VTIMEZONE
BEGIN:VEVENT
DTSTART;TZID=America/New_York:20220510T190000
DTEND;TZID=America/New_York:20220510T213000
DTSTAMP:20260421T005425
CREATED:20220606T155948Z
LAST-MODIFIED:20220606T160141Z
UID:7389-1652209200-1652218200@olvfpny.org
SUMMARY:Cursillo Meeting
DESCRIPTION:
URL:https://olvfpny.org/event/cursillo-meeting/2022-05-10/
LOCATION:Memorial Hall-OLVS Cafeteria\, 2 Bellmore St\, Floral Park\, NY\, 11001\, United States
CATEGORIES:Church Events
END:VEVENT
END:VCALENDAR