BEGIN:VCALENDAR
VERSION:2.0
PRODID:-//Our Lady of Victory Parish - ECPv6.15.20//NONSGML v1.0//EN
CALSCALE:GREGORIAN
METHOD:PUBLISH
X-ORIGINAL-URL:https://olvfpny.org
X-WR-CALDESC:Events for Our Lady of Victory Parish
REFRESH-INTERVAL;VALUE=DURATION:PT1H
X-Robots-Tag:noindex
X-PUBLISHED-TTL:PT1H
BEGIN:VTIMEZONE
TZID:America/New_York
BEGIN:DAYLIGHT
TZOFFSETFROM:-0500
TZOFFSETTO:-0400
TZNAME:EDT
DTSTART:20210314T070000
END:DAYLIGHT
BEGIN:STANDARD
TZOFFSETFROM:-0400
TZOFFSETTO:-0500
TZNAME:EST
DTSTART:20211107T060000
END:STANDARD
BEGIN:DAYLIGHT
TZOFFSETFROM:-0500
TZOFFSETTO:-0400
TZNAME:EDT
DTSTART:20220313T070000
END:DAYLIGHT
BEGIN:STANDARD
TZOFFSETFROM:-0400
TZOFFSETTO:-0500
TZNAME:EST
DTSTART:20221106T060000
END:STANDARD
BEGIN:DAYLIGHT
TZOFFSETFROM:-0500
TZOFFSETTO:-0400
TZNAME:EDT
DTSTART:20230312T070000
END:DAYLIGHT
BEGIN:STANDARD
TZOFFSETFROM:-0400
TZOFFSETTO:-0500
TZNAME:EST
DTSTART:20231105T060000
END:STANDARD
BEGIN:DAYLIGHT
TZOFFSETFROM:-0500
TZOFFSETTO:-0400
TZNAME:EDT
DTSTART:20240310T070000
END:DAYLIGHT
BEGIN:STANDARD
TZOFFSETFROM:-0400
TZOFFSETTO:-0500
TZNAME:EST
DTSTART:20241103T060000
END:STANDARD
BEGIN:DAYLIGHT
TZOFFSETFROM:-0500
TZOFFSETTO:-0400
TZNAME:EDT
DTSTART:20250309T070000
END:DAYLIGHT
BEGIN:STANDARD
TZOFFSETFROM:-0400
TZOFFSETTO:-0500
TZNAME:EST
DTSTART:20251102T060000
END:STANDARD
BEGIN:DAYLIGHT
TZOFFSETFROM:-0500
TZOFFSETTO:-0400
TZNAME:EDT
DTSTART:20260308T070000
END:DAYLIGHT
BEGIN:STANDARD
TZOFFSETFROM:-0400
TZOFFSETTO:-0500
TZNAME:EST
DTSTART:20261101T060000
END:STANDARD
END:VTIMEZONE
BEGIN:VEVENT
DTSTART;TZID=America/New_York:20251123T090000
DTEND;TZID=America/New_York:20251123T130000
DTSTAMP:20260421T221915
CREATED:20251104T143631Z
LAST-MODIFIED:20251104T143631Z
UID:11298-1763888400-1763902800@olvfpny.org
SUMMARY:Rosary Altar Advent Wreath Sale
DESCRIPTION:
URL:https://olvfpny.org/event/rosary-altar-advent-wreath-sale/
LOCATION:Church
END:VEVENT
BEGIN:VEVENT
DTSTART;TZID=America/New_York:20251122T160000
DTEND;TZID=America/New_York:20251122T183000
DTSTAMP:20260421T221915
CREATED:20251104T143407Z
LAST-MODIFIED:20251104T143407Z
UID:11296-1763827200-1763836200@olvfpny.org
SUMMARY:Rosary Altar Society Advent Wreath Sale
DESCRIPTION:
URL:https://olvfpny.org/event/rosary-altar-society-advent-wreath-sale-3/
LOCATION:Church
END:VEVENT
BEGIN:VEVENT
DTSTART;TZID=America/New_York:20250921T190000
DTEND;TZID=America/New_York:20250921T200000
DTSTAMP:20260421T221915
CREATED:20250819T141854Z
LAST-MODIFIED:20250819T141854Z
UID:10756-1758481200-1758484800@olvfpny.org
SUMMARY:Wedding Music Showcase
DESCRIPTION:
URL:https://olvfpny.org/event/wedding-music-showcase/
LOCATION:Church
END:VEVENT
BEGIN:VEVENT
DTSTART;TZID=America/New_York:20250613T190000
DTEND;TZID=America/New_York:20250613T200000
DTSTAMP:20260421T221915
CREATED:20240625T160636Z
LAST-MODIFIED:20240625T160636Z
UID:9423-1749841200-1749844800@olvfpny.org
SUMMARY:OLVS 8th Grade Graduation
DESCRIPTION:
URL:https://olvfpny.org/event/olvs-8th-grade-graduation-3/
LOCATION:Church
END:VEVENT
BEGIN:VEVENT
DTSTART;TZID=America/New_York:20250612T190000
DTEND;TZID=America/New_York:20250612T200000
DTSTAMP:20260421T221915
CREATED:20240625T160518Z
LAST-MODIFIED:20240625T160518Z
UID:9421-1749754800-1749758400@olvfpny.org
SUMMARY:OLVS Awards Night
DESCRIPTION:
URL:https://olvfpny.org/event/olvs-awards-night-4/
LOCATION:Church
END:VEVENT
BEGIN:VEVENT
DTSTART;TZID=America/New_York:20250530T190000
DTEND;TZID=America/New_York:20250530T200000
DTSTAMP:20260421T221915
CREATED:20230621T144534Z
LAST-MODIFIED:20230621T144534Z
UID:8376-1748631600-1748635200@olvfpny.org
SUMMARY:Corpus Christi Concert
DESCRIPTION:
URL:https://olvfpny.org/event/corpus-christi-concert/
LOCATION:Church
END:VEVENT
BEGIN:VEVENT
DTSTART;TZID=America/New_York:20250305T093000
DTEND;TZID=America/New_York:20250305T103000
DTSTAMP:20260421T221915
CREATED:20240625T152601Z
LAST-MODIFIED:20240625T152601Z
UID:9377-1741167000-1741170600@olvfpny.org
SUMMARY:OLV Ash Wednesday School Mass
DESCRIPTION:
URL:https://olvfpny.org/event/olv-ash-wednesday-school-mass/
LOCATION:Church
END:VEVENT
BEGIN:VEVENT
DTSTART;TZID=America/New_York:20250226T193000
DTEND;TZID=America/New_York:20250226T201500
DTSTAMP:20260421T221915
CREATED:20240718T170314Z
LAST-MODIFIED:20240718T170314Z
UID:9707-1740598200-1740600900@olvfpny.org
SUMMARY:Faith Formation 7th Grade Students Reconciliation
DESCRIPTION:
URL:https://olvfpny.org/event/faith-formation-7th-grade-students-reconciliation-2/
LOCATION:Church
CATEGORIES:Faith Formation
END:VEVENT
BEGIN:VEVENT
DTSTART;TZID=America/New_York:20250225T193000
DTEND;TZID=America/New_York:20250225T201500
DTSTAMP:20260421T221915
CREATED:20240718T170213Z
LAST-MODIFIED:20240718T170213Z
UID:9705-1740511800-1740514500@olvfpny.org
SUMMARY:Faith Formation 8th Grade Students Reconciliation
DESCRIPTION:
URL:https://olvfpny.org/event/faith-formation-8th-grade-students-reconciliation-2/
LOCATION:Church
CATEGORIES:Faith Formation
END:VEVENT
BEGIN:VEVENT
DTSTART;TZID=America/New_York:20250212T193000
DTEND;TZID=America/New_York:20250212T201500
DTSTAMP:20260421T221915
CREATED:20240718T170034Z
LAST-MODIFIED:20240718T170034Z
UID:9703-1739388600-1739391300@olvfpny.org
SUMMARY:Faith Formation 7th Grade Students Reconciliation
DESCRIPTION:
URL:https://olvfpny.org/event/faith-formation-7th-grade-students-reconciliation/
LOCATION:Church
CATEGORIES:Faith Formation
END:VEVENT
BEGIN:VEVENT
DTSTART;TZID=America/New_York:20250211T193000
DTEND;TZID=America/New_York:20250211T201500
DTSTAMP:20260421T221915
CREATED:20240718T165927Z
LAST-MODIFIED:20240718T165927Z
UID:9701-1739302200-1739304900@olvfpny.org
SUMMARY:Faith Formation 8th Grade Students Reconciliation
DESCRIPTION:
URL:https://olvfpny.org/event/faith-formation-8th-grade-students-reconciliation/
LOCATION:Church
CATEGORIES:Faith Formation
END:VEVENT
BEGIN:VEVENT
DTSTART;TZID=America/New_York:20250208T110000
DTEND;TZID=America/New_York:20250208T120000
DTSTAMP:20260421T221915
CREATED:20240625T152058Z
LAST-MODIFIED:20240625T152058Z
UID:9371-1739012400-1739016000@olvfpny.org
SUMMARY:Faith Formation 2nd Grade Reconciliation
DESCRIPTION:
URL:https://olvfpny.org/event/faith-formation-2nd-grade-reconciliation-9/
LOCATION:Church
CATEGORIES:Faith Formation
END:VEVENT
BEGIN:VEVENT
DTSTART;TZID=America/New_York:20250201T130000
DTEND;TZID=America/New_York:20250201T140000
DTSTAMP:20260421T221915
CREATED:20240625T151549Z
LAST-MODIFIED:20240625T151549Z
UID:9363-1738414800-1738418400@olvfpny.org
SUMMARY:Faith Formation 2nd Grade Reconciliation
DESCRIPTION:
URL:https://olvfpny.org/event/faith-formation-2nd-grade-reconciliation-8/
LOCATION:Church
CATEGORIES:Faith Formation
END:VEVENT
BEGIN:VEVENT
DTSTART;TZID=America/New_York:20250201T110000
DTEND;TZID=America/New_York:20250201T120000
DTSTAMP:20260421T221915
CREATED:20240625T145750Z
LAST-MODIFIED:20240625T150009Z
UID:9360-1738407600-1738411200@olvfpny.org
SUMMARY:Faith Formation 2nd Grade Reconciliation
DESCRIPTION:
URL:https://olvfpny.org/event/faith-formation-2nd-grade-reconciliation-7/2025-02-01/
LOCATION:Church
CATEGORIES:Faith Formation
END:VEVENT
BEGIN:VEVENT
DTSTART;TZID=America/New_York:20250131T091500
DTEND;TZID=America/New_York:20250131T101500
DTSTAMP:20260421T221915
CREATED:20240624T175210Z
LAST-MODIFIED:20240624T175210Z
UID:9355-1738314900-1738318500@olvfpny.org
SUMMARY:OLV School Mass
DESCRIPTION:
URL:https://olvfpny.org/event/olv-school-mass-3/
LOCATION:Church
END:VEVENT
BEGIN:VEVENT
DTSTART;TZID=America/New_York:20241220T091500
DTEND;TZID=America/New_York:20241220T101500
DTSTAMP:20260421T221915
CREATED:20240624T173347Z
LAST-MODIFIED:20240624T173347Z
UID:9329-1734686100-1734689700@olvfpny.org
SUMMARY:OLV School Mass
DESCRIPTION:
URL:https://olvfpny.org/event/olv-school-mass-2/
LOCATION:Church
END:VEVENT
BEGIN:VEVENT
DTSTART;TZID=America/New_York:20241127T091500
DTEND;TZID=America/New_York:20241127T101500
DTSTAMP:20260421T221915
CREATED:20240624T171606Z
LAST-MODIFIED:20240624T171606Z
UID:9314-1732698900-1732702500@olvfpny.org
SUMMARY:OLV School Mass for Thanksgiving
DESCRIPTION:
URL:https://olvfpny.org/event/olv-school-mass-for-thanksgiving/
LOCATION:Church
END:VEVENT
BEGIN:VEVENT
DTSTART;TZID=America/New_York:20241101T093000
DTEND;TZID=America/New_York:20241101T103000
DTSTAMP:20260421T221915
CREATED:20240624T170837Z
LAST-MODIFIED:20240624T170837Z
UID:9304-1730453400-1730457000@olvfpny.org
SUMMARY:OLV School Mass-All Saints Day
DESCRIPTION:
URL:https://olvfpny.org/event/olv-school-mass-all-saints-day/
LOCATION:Church
END:VEVENT
BEGIN:VEVENT
DTSTART;TZID=America/New_York:20241023T193000
DTEND;TZID=America/New_York:20241023T201500
DTSTAMP:20260421T221915
CREATED:20240626T175914Z
LAST-MODIFIED:20240626T175914Z
UID:9662-1729711800-1729714500@olvfpny.org
SUMMARY:Faith Formation 7th Grade Commitment Mass
DESCRIPTION:
URL:https://olvfpny.org/event/faith-formation-7th-grade-commitment-mass-9/
LOCATION:Church
CATEGORIES:Faith Formation
END:VEVENT
BEGIN:VEVENT
DTSTART;TZID=America/New_York:20241016T193000
DTEND;TZID=America/New_York:20241016T201500
DTSTAMP:20260421T221915
CREATED:20240626T175738Z
LAST-MODIFIED:20240626T175738Z
UID:9660-1729107000-1729109700@olvfpny.org
SUMMARY:Faith Formation 7th Grade Commitment Mass
DESCRIPTION:
URL:https://olvfpny.org/event/faith-formation-7th-grade-commitment-mass-8/
LOCATION:Church
CATEGORIES:Faith Formation
END:VEVENT
BEGIN:VEVENT
DTSTART;TZID=America/New_York:20240913T091500
DTEND;TZID=America/New_York:20240913T101500
DTSTAMP:20260421T221915
CREATED:20240624T162628Z
LAST-MODIFIED:20240624T162628Z
UID:9276-1726218900-1726222500@olvfpny.org
SUMMARY:OLV School Mass
DESCRIPTION:
URL:https://olvfpny.org/event/olv-school-mass/
LOCATION:Church
END:VEVENT
BEGIN:VEVENT
DTSTART;TZID=America/New_York:20231202T083000
DTEND;TZID=America/New_York:20231202T120000
DTSTAMP:20260421T221915
CREATED:20231101T163752Z
LAST-MODIFIED:20231101T163752Z
UID:8925-1701505800-1701518400@olvfpny.org
SUMMARY:Liturgical Ministry Day
DESCRIPTION:
URL:https://olvfpny.org/event/liturgical-ministry-day/
LOCATION:Church
END:VEVENT
BEGIN:VEVENT
DTSTART;TZID=America/New_York:20231130T190000
DTEND;TZID=America/New_York:20231130T203000
DTSTAMP:20260421T221915
CREATED:20231101T163942Z
LAST-MODIFIED:20231101T163942Z
UID:8927-1701370800-1701376200@olvfpny.org
SUMMARY:Faith Formation Catechists Evening of Recollection & Appreciation
DESCRIPTION:
URL:https://olvfpny.org/event/faith-formation-catechists-evening-of-recollection-appreciation/
LOCATION:Church
CATEGORIES:Faith Formation
END:VEVENT
BEGIN:VEVENT
DTSTART;TZID=America/New_York:20231119T090000
DTEND;TZID=America/New_York:20231119T120000
DTSTAMP:20260421T221915
CREATED:20230627T171612Z
LAST-MODIFIED:20230627T171612Z
UID:8483-1700384400-1700395200@olvfpny.org
SUMMARY:Rosary Altar Society Advent Wreath Sale
DESCRIPTION:
URL:https://olvfpny.org/event/rosary-altar-society-advent-wreath-sale-2/
LOCATION:Church
END:VEVENT
BEGIN:VEVENT
DTSTART;TZID=America/New_York:20231118T160000
DTEND;TZID=America/New_York:20231118T183000
DTSTAMP:20260421T221915
CREATED:20230627T171438Z
LAST-MODIFIED:20230627T171438Z
UID:8481-1700323200-1700332200@olvfpny.org
SUMMARY:Rosary Altar Society Advent Wreath Sale
DESCRIPTION:
URL:https://olvfpny.org/event/rosary-altar-society-advent-wreath-sale/
LOCATION:Church
END:VEVENT
BEGIN:VEVENT
DTSTART;TZID=America/New_York:20231102T190000
DTEND;TZID=America/New_York:20231102T200000
DTSTAMP:20260421T221915
CREATED:20231101T164530Z
LAST-MODIFIED:20231101T164530Z
UID:8932-1698951600-1698955200@olvfpny.org
SUMMARY:Parish All Souls Mass
DESCRIPTION:
URL:https://olvfpny.org/event/parish-all-souls-mass/
LOCATION:Church
END:VEVENT
BEGIN:VEVENT
DTSTART;TZID=America/New_York:20230418T071500
DTEND;TZID=America/New_York:20230418T200000
DTSTAMP:20260421T221915
CREATED:20230201T181721Z
LAST-MODIFIED:20230201T181721Z
UID:7900-1681802100-1681848000@olvfpny.org
SUMMARY:8th Grade Confirmation Candidates & Sponsors Meeting
DESCRIPTION:
URL:https://olvfpny.org/event/8th-grade-confirmation-candidates-sponsors-meeting/
LOCATION:Church
END:VEVENT
BEGIN:VEVENT
DTSTART;TZID=America/New_York:20221212T193000
DTEND;TZID=America/New_York:20221212T203000
DTSTAMP:20260421T221915
CREATED:20220623T174904Z
LAST-MODIFIED:20220623T174904Z
UID:7640-1670873400-1670877000@olvfpny.org
SUMMARY:St. Vincent de Paul Society
DESCRIPTION:
URL:https://olvfpny.org/event/st-vincent-de-paul-society-11/
LOCATION:Church
END:VEVENT
BEGIN:VEVENT
DTSTART;TZID=America/New_York:20221128T193000
DTEND;TZID=America/New_York:20221128T203000
DTSTAMP:20260421T221915
CREATED:20220623T174744Z
LAST-MODIFIED:20220623T174744Z
UID:7639-1669663800-1669667400@olvfpny.org
SUMMARY:St. Vincent de Paul Society Meeting
DESCRIPTION:
URL:https://olvfpny.org/event/st-vincent-de-paul-society-meeting-9/
LOCATION:Church
END:VEVENT
BEGIN:VEVENT
DTSTART;TZID=America/New_York:20221114T193000
DTEND;TZID=America/New_York:20221114T203000
DTSTAMP:20260421T221915
CREATED:20220623T174635Z
LAST-MODIFIED:20220623T174635Z
UID:7638-1668454200-1668457800@olvfpny.org
SUMMARY:St. Vincent de Paul Society Meeting
DESCRIPTION:
URL:https://olvfpny.org/event/st-vincent-de-paul-society-meeting-8/2022-11-14/
LOCATION:Church
END:VEVENT
END:VCALENDAR